BEGIN:VCALENDAR
VERSION:2.0
PRODID:-//AFA Escola Montserrat Solà - ECPv6.2.2//NONSGML v1.0//EN
CALSCALE:GREGORIAN
METHOD:PUBLISH
X-ORIGINAL-URL:https://afa.escolamontserratsola.cat
X-WR-CALDESC:Esdeveniments per AFA Escola Montserrat Solà
REFRESH-INTERVAL;VALUE=DURATION:PT1H
X-Robots-Tag:noindex
X-PUBLISHED-TTL:PT1H
BEGIN:VTIMEZONE
TZID:Europe/Andorra
BEGIN:DAYLIGHT
TZOFFSETFROM:+0100
TZOFFSETTO:+0200
TZNAME:CEST
DTSTART:20220327T010000
END:DAYLIGHT
BEGIN:STANDARD
TZOFFSETFROM:+0200
TZOFFSETTO:+0100
TZNAME:CET
DTSTART:20221030T010000
END:STANDARD
END:VTIMEZONE
BEGIN:VEVENT
DTSTART;TZID=Europe/Andorra:20221028T163000
DTEND;TZID=Europe/Andorra:20221028T173000
DTSTAMP:20260420T091814
CREATED:20220918T200228Z
LAST-MODIFIED:20221024T151838Z
UID:5294-1666974600-1666978200@afa.escolamontserratsola.cat
SUMMARY:Festa de benvinguda / Castanyada
DESCRIPTION:
URL:https://afa.escolamontserratsola.cat/esdeveniments/festa-de-benvinguda/
LOCATION:Pati de l’escola
CATEGORIES:Festes
END:VEVENT
END:VCALENDAR